BEGIN:VCALENDAR
PRODID:-//Splash Event Planning System
VERSION:2.0
METHOD:PUBLISH
BEGIN:VEVENT
DTSTAMP:20210704T224506Z
UID:a437714c320629b403ebdddbbdca731a03bf796b@invite.salesfor
 ce.com
URL:http://invite.salesforce.com
DTSTART:20201217T010000Z
DTEND:20201217T040000Z
ORGANIZER;CN="Saurabh Patel":mailto:homepagesalesforce@invit
 e.salesforce.com
SUMMARY:Salesforce Events
DESCRIPTION:For more information - http://invite.salesforce.
 com
LOCATION:
END:VEVENT
END:VCALENDAR
